BEGIN:VCALENDAR
VERSION:2.0
PRODID:-//eventon.com NONSGML v1.0//EN
CALSCALE:GREGORIAN
METHOD:PUBLISH
BEGIN:VEVENT
UID:69e63829ece47
DTSTAMP:20260420T092857
DTSTART:20220213T220000Z
DTEND:20220214T010000Z
TZID:America/Chicago
LOCATION:JimBob&#039;s Pizza and Grill 8140 136th St\,  Chippewa Falls\,  WI 54729
SUMMARY:JimBob's "Pizza Punishment" Challenge in Chippewa Falls\,  Wisconsin!!
DESCRIPTION: Friends around the Eau Claire and especially Chippewa Falls\,  Wisconsin area!! At 4:00pm CST on Sunday\,  February 13\,  2022\,  professional eaters Randy Santel and Katina Eats Kilos will be at JimBob&#8217;s Pizza and Grill in Chippewa Falls\,  Wisconsin. The address is 8140 136th St\,  Chippewa Falls\,  WI 54729 and it[..]\nhttps://randysantel.com/events/jimbobs-pizza-punishment-challenge-in-chippewa-falls-wisconsin/
URL:https://randysantel.com/events/jimbobs-pizza-punishment-challenge-in-chippewa-falls-wisconsin/
END:VEVENT
END:VCALENDAR