BEGIN:VCALENDAR
VERSION:2.0
PRODID:-//eventon.com NONSGML v1.0//EN
CALSCALE:GREGORIAN
METHOD:PUBLISH
BEGIN:VEVENT
UID:69ec3d0a38d45
DTSTAMP:20260424T230322
DTSTART:20220525T230000Z
DTEND:20220526T010000Z
TZID:America/Chicago
LOCATION:1889 Pizza Napoletana 2876 W 47th Ave\,  Kansas City\,  KS 66103
SUMMARY:1889 Pizza Napoletana's New Pizza Challenge in Kansas City\,  Kansas!!
DESCRIPTION: Friends around the Kansas City\,  Kansas area!! At 6:00pm CST on Wednesday\,  May 25\,  2022\,  professional eaters Randy Santel and Katina Eats Kilos will be at 1889 Pizza Napoletana located in Kansas City\,  Kansas. The address is 2876 W 47th Ave\,  Kansas City\,  KS 66103. We will each take on[..]\nhttps://randysantel.com/events/1889-pizza-napoletanas-new-pizza-challenge-in-kansas-city-kansas/
URL:https://randysantel.com/events/1889-pizza-napoletanas-new-pizza-challenge-in-kansas-city-kansas/
END:VEVENT
END:VCALENDAR