BEGIN:VCALENDAR
VERSION:2.0
PRODID:-//eventon.com NONSGML v1.0//EN
CALSCALE:GREGORIAN
METHOD:PUBLISH
BEGIN:VEVENT
UID:69e6373070a32
DTSTAMP:20260420T092448
DTSTART:20220622T160000Z
DTEND:20220622T190000Z
TZID:Europe/Dublin
LOCATION:Pitt Bros BBQ Dublin 84-88 George's Street Upper\,  Dublin\,  D02 TX84
SUMMARY:Pitt Bros BBQ's New Barbecue Food Challenge in Dublin\,  Ireland!!
DESCRIPTION: Friends around the Dublin\,  Ireland area!! At 5:00pm on Wednesday\,  June 22\,  2022\,  professional eaters Randy Santel and Katina Eats Kilos will be at Pitt Bros BBQ located in Dublin\,  Ireland. The address is 84-88 George&#8217;s Street Upper\,  Dublin\,  D02 TX84. We will each take on Pitt Bros BBQ&#8216;s new[..]\nhttps://randysantel.com/events/pitt-bros-bbqs-new-barbecue-food-challenge-in-dublin-ireland/
URL:https://randysantel.com/events/pitt-bros-bbqs-new-barbecue-food-challenge-in-dublin-ireland/
END:VEVENT
END:VCALENDAR