BEGIN:VCALENDAR
VERSION:2.0
PRODID:-//eventon.com NONSGML v1.0//EN
CALSCALE:GREGORIAN
METHOD:PUBLISH
BEGIN:VEVENT
UID:69eae507e99ea
DTSTAMP:20260423T223535
DTSTART:20220729T120000Z
DTEND:20220729T140000Z
TZID:Europe/Dublin
LOCATION:The Newton Café / Brunch Bar 345 Newtownards Rd\,  Belfast BT4 1HP
SUMMARY:The Newton Cafe's XXL "Goliath" Ulster Fry Breakfast Challenge in Belfast\,  Northern Ireland!!
DESCRIPTION: Friends around the Belfast\,  Northern Ireland area!! At 1:00pm on Friday\,  July 29\,  2022\,  professional eaters Randy Santel and Katina Eats Kilos will be at The Newton Café located in Belfast\,  Northern Ireland. The address is &#8220;345 Newtownards Rd\,  Belfast BT4 1HP.&#8221; We will each take on The Newton Cafe&#8217;s[..]\nhttps://randysantel.com/events/the-newton-cafes-xxl-goliath-ulster-fry-breakfast-challenge-in-belfast-northern-ireland/
URL:https://randysantel.com/events/the-newton-cafes-xxl-goliath-ulster-fry-breakfast-challenge-in-belfast-northern-ireland/
END:VEVENT
END:VCALENDAR