BEGIN:VCALENDAR
VERSION:2.0
PRODID:-//eventon.com NONSGML v1.0//EN
CALSCALE:GREGORIAN
METHOD:PUBLISH
BEGIN:VEVENT
UID:69e9a0b65f077
DTSTAMP:20260422T233150
DTSTART:20221018T220000Z
DTEND:20221019T000000Z
TZID:America/New_York
LOCATION:Maggio&#039;s Restaurant\,  Bar &amp; Ballroom 400 Second Street Pike\,  Southampton\,  PA 18966
SUMMARY:Maggio's Big Beefy Burger Challenge in Southampton\,  Pennsylvania!!
DESCRIPTION: Friends around the Southampton\,  Pennsylvania area!! At 6:00pm on Tuesday\,  October 18\,  2022\,  professional eater Randy Santel will be at Maggio&#8217;s Restaurant located in Southampton\,  Pennsylvania. The address is &#8220;400 Second Street Pike\,  Southampton\,  PA 18966.&#8221; Randy will be with friend &#8220;Notorious&#8221; Bob Shoudt\,  each taking on Maggio&#8217;s Big Beefy[..]\nhttps://randysantel.com/events/maggios-big-beefy-burger-challenge-in-southampton-pennsylvania/
URL:https://randysantel.com/events/maggios-big-beefy-burger-challenge-in-southampton-pennsylvania/
END:VEVENT
END:VCALENDAR