BEGIN:VCALENDAR
VERSION:2.0
PRODID:-//eventon.com NONSGML v1.0//EN
CALSCALE:GREGORIAN
METHOD:PUBLISH
BEGIN:VEVENT
UID:69ed93e151965
DTSTAMP:20260425T232609
DTSTART:20230123T223000Z
DTEND:20230124T000000Z
TZID:America/Los_Angeles
LOCATION:The Cereal Killerz Kitchen (Henderson) 3255 St Rose Pkwy Ste 100\,  Henderson\,  NV 89052
SUMMARY:Cereal Killerz Kitchen's Monster Cereal Bowl Challenge in Henderson\,  Nevada!!
DESCRIPTION: Friends around the Henderson and Las Vegas\,  Nevada area!! At 2:30pm PST on Monday\,  January 23\,  2023\,  professional eater Randy Santel will be at The Cereal Killerz Kitchen location off St Rose Parkway in Henderson\,  Nevada. The address is 3255 St Rose Pkwy\,  Ste #100\,  Henderson\,  NV 89052. Randy will[..]\nhttps://randysantel.com/events/cereal-killerz-kitchens-monster-cereal-bowl-challenge-in-henderson-nevada/
URL:https://randysantel.com/events/cereal-killerz-kitchens-monster-cereal-bowl-challenge-in-henderson-nevada/
END:VEVENT
END:VCALENDAR