BEGIN:VCALENDAR
VERSION:2.0
PRODID:-//eventon.com NONSGML v1.0//EN
CALSCALE:GREGORIAN
METHOD:PUBLISH
BEGIN:VEVENT
UID:69e6f09097176
DTSTAMP:20260420T223544
DTSTART:20240202T230000Z
DTEND:20240203T010000Z
TZID:America/New_York
LOCATION:Benny DiCarta&#039;s Pizza 232 E Michigan Ave\,  Kalamazoo\,  MI 49007
SUMMARY:Benny DiCarta's 28-Inch Pizza Challenge in Kalamazoo\,  Michigan!!
DESCRIPTION: Friends around the Kalamazoo\,  Michigan area!! At 6:00 pm EST on Friday\,  February 2\,  2024\,  American professional eater Randy Santel will be at Benny DiCarta&#8217;s Pizza in Kalamazoo\,  Michigan. It is located at 232 E Michigan Ave\,  Kalamazoo\,  MI 49007. Randy will take on Benny DiCarta&#8217;s 28&#8243; Pizza Challenge by[..]\nhttps://randysantel.com/events/benny-dicartas-28-inch-pizza-challenge-in-kalamazoo-michigan/
URL:https://randysantel.com/events/benny-dicartas-28-inch-pizza-challenge-in-kalamazoo-michigan/
END:VEVENT
END:VCALENDAR