BEGIN:VCALENDAR
VERSION:2.0
PRODID:-//eventon.com NONSGML v1.0//EN
CALSCALE:GREGORIAN
METHOD:PUBLISH
BEGIN:VEVENT
UID:69ecf57d837c6
DTSTAMP:20260425T121021
DTSTART:20240702T210000Z
DTEND:20240702T230000Z
TZID:America/New_York
LOCATION:Blackfins at Capt. Hiram&#039;s Resort 1606 Indian River Dr\,  Sebastian\,  FL 32958
SUMMARY:Blackfins at Capt Hiram's New Menu Food Challenge in Sebastian\,  Florida!!
DESCRIPTION: Friends around the Sebastian / Treasure Coast area of Florida!! At 5:00 pm EDT on Tuesday\,  July 2\,  2024\,  American professional eater Randy Santel will be at Blackfins Riverfront Grill in Sebastian\,  Florida which is part of Captain Hiram&#8217;s Resort. The address is 1606 Indian River Dr\,  Sebastian\,  FL 32958.[..]\nhttps://randysantel.com/events/blackfins-at-capt-hirams-new-menu-food-challenge-in-sebastian-florida/
URL:https://randysantel.com/events/blackfins-at-capt-hirams-new-menu-food-challenge-in-sebastian-florida/
END:VEVENT
END:VCALENDAR