BEGIN:VCALENDAR
VERSION:2.0
PRODID:-//eventon.com NONSGML v1.0//EN
CALSCALE:GREGORIAN
METHOD:PUBLISH
BEGIN:VEVENT
UID:69ed130992f6c
DTSTAMP:20260425T141625
DTSTART:20250524T180000Z
DTEND:20250524T210000Z
TZID:America/New_York
LOCATION:Belvedere Polish Deli 122 Prospect Hill Rd\,  East Windsor\,  CT 06088
SUMMARY:Belvedere's "Tatra 5.0" Polish Food Mountain Challenge in East Windsor\,  Connecticut!!
DESCRIPTION: Friends around the East Windsor\,  Connecticut area!! At 2:00pm EDT on Saturday\,  May 24\,  2025\,  American professional eaters Randy Santel and Katina Eats Kilos will be at Belvedere Sandwich Shop and Polish Deli in East Windsor\,  Connecticut!! The address is 122 Prospect Hill Rd\,  East Windsor\,  CT 06088. Randy and[..]\nhttps://randysantel.com/events/belvederes-tatra-5-polish-food-mountain-challenge-in-east-windsor-connecticut/
URL:https://randysantel.com/events/belvederes-tatra-5-polish-food-mountain-challenge-in-east-windsor-connecticut/
END:VEVENT
END:VCALENDAR