BEGIN:VCALENDAR
VERSION:2.0
PRODID:-//eventon.com NONSGML v1.0//EN
CALSCALE:GREGORIAN
METHOD:PUBLISH
BEGIN:VEVENT
UID:69ecf62d08ca4
DTSTAMP:20260425T121317
DTSTART:20250525T180000Z
DTEND:20250525T210000Z
TZID:America/New_York
LOCATION:Thomas Hooker Brewery (Bloomfield) 16 Tobey Rd\,  Bloomfield\,  CT 06002
SUMMARY:Thomas Hooker Brewery's "Big Hooker" Food Challenges in Bloomfield\,  Connecticut!!
DESCRIPTION: Friends around the Bloomfield and Hartford\,  Connecticut area!! At 2:00pm EDT on Sunday\,  May 25\,  2025\,  American professional eaters Randy Santel and Katina Eats Kilos will be at Thomas Hooker Brewery in Bloomfield\,  Connecticut!! The address is 16 Tobey Rd\,  Bloomfield\,  CT 06002. Randy and Katina will each be attempting[..]\nhttps://randysantel.com/events/thomas-hooker-brewerys-big-hooker-food-challenges-in-bloomfield-connecticut/
URL:https://randysantel.com/events/thomas-hooker-brewerys-big-hooker-food-challenges-in-bloomfield-connecticut/
END:VEVENT
END:VCALENDAR