BEGIN:VCALENDAR
VERSION:2.0
PRODID:-//eventon.com NONSGML v1.0//EN
CALSCALE:GREGORIAN
METHOD:PUBLISH
BEGIN:VEVENT
UID:69eb9f3ede4e5
DTSTAMP:20260424T115006
DTSTART:20250601T170000Z
DTEND:20250601T190000Z
TZID:America/New_York
LOCATION:End Zone Pizza &amp; Deli 315 Eastern Ave\,  Augusta\,  ME 04330
SUMMARY:End Zone's 30-Inch "Gridiron" Team Pizza Challenge in Augusta\,  Maine!!
DESCRIPTION: Friends around the Augusta\,  Maine area!! At 1:00pm EDT on Sunday\,  June 1\,  2025\,  American professional eaters Randy Santel and Katina Eats Kilos will be at End Zone Pizza &amp; Deli in Augusta\,  Maine!! The address is 315 Eastern Ave\,  Augusta\,  ME 04330. Randy and Katina will be attempting End[..]\nhttps://randysantel.com/events/end-zones-30-inch-gridiron-team-pizza-challenge-in-augusta-maine/
URL:https://randysantel.com/events/end-zones-30-inch-gridiron-team-pizza-challenge-in-augusta-maine/
END:VEVENT
END:VCALENDAR