BEGIN:VCALENDAR
VERSION:2.0
PRODID:-//eventon.com NONSGML v1.0//EN
CALSCALE:GREGORIAN
METHOD:PUBLISH
BEGIN:VEVENT
UID:69e9042c42ed0
DTSTAMP:20260422T122356
DTSTART:20250718T140000Z
DTEND:20250718T163000Z
TZID:Europe/London
LOCATION:Grumpy&#039;s Diner 759 Southchurch Rd\,  Southend-on-Sea SS1 2PP
SUMMARY:Two of Grumpy's Diner's Food Challenges in Southend-on-Sea\,  England!!
DESCRIPTION: Friends around the Southend-on-Sea\,  England area!! At 3:00pm BST on Friday\,  July 18\,  2025\,  American pro eaters Randy Santel and Katina Eats Kilos will be at Grumpy&#8217;s Diner in Southend-on-Sea\,  England of the United Kingdom!! The address is 759 Southchurch Rd\,  Southend-on-Sea SS1 2PP. We will each attempt one of[..]\nhttps://randysantel.com/events/two-of-grumpys-diners-food-challenges-in-southend-on-sea-england/
URL:https://randysantel.com/events/two-of-grumpys-diners-food-challenges-in-southend-on-sea-england/
END:VEVENT
END:VCALENDAR