BEGIN:VCALENDAR
VERSION:2.0
PRODID:-//eventon.com NONSGML v1.0//EN
CALSCALE:GREGORIAN
METHOD:PUBLISH
BEGIN:VEVENT
UID:69eba3f76fed6
DTSTAMP:20260424T121015
DTSTART:20251209T010000Z
DTEND:20251209T040000Z
TZID:America/Los_Angeles
LOCATION:The Bearded Ginger Bar and Grill 8125 E Sprague Ave\,  Spokane Valley\,  WA 99212
SUMMARY:The Bearded Ginger’s “Thor’s Hammer” Eating Challenge in Spokane\,  Washington!!
DESCRIPTION: Friends around the Spokane\,  Washington area!! At 5:00pm PST on Monday\,  December 8\,  2025\,  American pro eaters Randy Santel and Katina Eats Kilos will be at The Bearded Ginger Bar and Grill in Spokane Valley\,  Washington!! The address is 8125 E Sprague Ave\,  Spokane Valley\,  WA 99212. We will each[..]\nhttps://randysantel.com/events/the-bearded-gingers-thors-hammer-eating-challenge-in-spokane-washington/
URL:https://randysantel.com/events/the-bearded-gingers-thors-hammer-eating-challenge-in-spokane-washington/
END:VEVENT
END:VCALENDAR